BEGIN:VCALENDAR
VERSION:2.0
PRODID:-//eventon.com NONSGML v1.0//EN
CALSCALE:GREGORIAN
METHOD:PUBLISH
BEGIN:VEVENT
UID:69ed5a817a81b
DTSTAMP:20260426T002121Z
DTSTART:20160504T003000Z
DTEND:20160504T040000Z
LOCATION:University of Utah Union Ballroom 200 S Central Campus Drive\,  Salt Lake City\,  UT 84112
SUMMARY:Swing It!
DESCRIPTION:Join the Salt Lake Choral Artists in their annual fundraiser\, 
 Swing It! This years theme\,  Come Fly With Me will have you soaring throu
 gh time with special guests\,  Dallin Bayles\,  Caleb Chapman and the Cresc
 ent Super Band\,  and dancers from the Shilouette Ballroom. This will be an
  evening to remember with dinner\, [..]\nhttps://saltlakechoralartists.org/
 events/swing-it/
URL:https://saltlakechoralartists.org/events/swing-it/
END:VEVENT
END:VCALENDAR