BEGIN:VCALENDAR
VERSION:2.0
PRODID:-//eventon.com NONSGML v1.0//EN
CALSCALE:GREGORIAN
METHOD:PUBLISH
BEGIN:VEVENT
UID:69ecd3c8781c1
DTSTAMP:20260425T144632Z
DTSTART:20200216T023000Z
DTEND:20200216T065000Z
LOCATION:Libby Gardner Concert Hall 1375 E Presidents Cir.\,  Salt Lake City\,  UT\,  84112
SUMMARY:My Funny Valentine:
DESCRIPTION:The Salt Lake Choral Artists and the Salt Lake Symphonic Choir 
 (Erin Pike Tall\,  conductor) will come together to present this exciting a
 nd romantic concert! Together\,  we will feature the great love songs of Co
 le Porter\,  Jerome Kern\,  George Gershwin\,  Richard Rodgers\,  and many 
 more to celebrate Valentine’s weekend. A[..]\nhttps://saltlakechoralartis
 ts.org/events/my-funny-valentine/
URL:https://saltlakechoralartists.org/events/my-funny-valentine/
END:VEVENT
END:VCALENDAR