BEGIN:VCALENDAR
VERSION:2.0
PRODID:-//eventon.com NONSGML v1.0//EN
CALSCALE:GREGORIAN
METHOD:PUBLISH
BEGIN:VEVENT
UID:69eb5499ca708
DTSTAMP:20260424T113137Z
DTSTART:20170219T023000Z
DTEND:20170219T043000Z
LOCATION:Libby Gardner Concert Hall 1375 E Presidents Cir.\,  Salt Lake City\,  UT\,  84112
SUMMARY:Beatlemania II
DESCRIPTION:Our first Beatlemania – tribute to the Beatles – was so suc
 cessful that we are bringing it back by popular demand! We will sing as man
 y of the greatest hits by the Beatles as we can pack into a concert. Join t
 he SLCA Concert Choir\,  Chamber Choir and Women&#8217;s Choir[..]\nhttps:/
 /saltlakechoralartists.org/events/beatlemania-ii-2/
URL:https://saltlakechoralartists.org/events/beatlemania-ii-2/
END:VEVENT
END:VCALENDAR